BEGIN:VCALENDAR
VERSION:2.0
PRODID:-//Look Over The Farm Gate - ECPv4.9.10//NONSGML v1.0//EN
CALSCALE:GREGORIAN
METHOD:PUBLISH
X-WR-CALNAME:Look Over The Farm Gate
X-ORIGINAL-URL:https://lookoverthefarmgate.org.au
X-WR-CALDESC:Events for Look Over The Farm Gate
BEGIN:VTIMEZONE
TZID:Australia/Melbourne
BEGIN:STANDARD
TZOFFSETFROM:+1100
TZOFFSETTO:+1000
TZNAME:AEST
DTSTART:20190406T160000
END:STANDARD
BEGIN:DAYLIGHT
TZOFFSETFROM:+1000
TZOFFSETTO:+1100
TZNAME:AEDT
DTSTART:20191005T160000
END:DAYLIGHT
END:VTIMEZONE
BEGIN:VEVENT
DTSTART;TZID=Australia/Melbourne:20190330T120000
DTEND;TZID=Australia/Melbourne:20190330T180000
DTSTAMP:20200301T161329
CREATED:20190204T033003Z
LAST-MODIFIED:20190204T033003Z
UID:2352-1553947200-1553968800@lookoverthefarmgate.org.au
SUMMARY:Harrow Long Lunch
DESCRIPTION:The Harrow Long Lunch made its debut as a community event and fundraiser for the Bay Riders Community Centre in 2018 and was quickly sold out. Due to the outstanding success and everyone thoroughly enjoying themselves\, we are holding this event on the off year to the Black Tie Ball. As a result\, the next Long Lunch is scheduled for Saturday 30th March\,\n2019. The Bay Riders Community Centre is a neighbourhood house whichis under the auspice of the Harrow Bush nursing Centre. This event was the brain child and dream of long term volunteer MrsLoba Petrovic. Sloba envisioned a long table amongst the beautiful scenery of Harrow with everyone enjoying delectable food\, wine and live music. Being a French trained chef\, Sloba guides the menu which includes tasting plates\, lunch and desert. Complementary to Sloba’s cuisine\, a group of local volunteers who have a passion for cooking and who also took part in the Bay Riders Community Centre International Cooking workshops over 4 years\, have combined their love of food to provide tasting plates and desert. We team this up with beautiful bohemian atmosphere and live Jazz on the banks of the Glenelg River. We are pleased to announce that Kalimna will again be performing for the Long Lunch in 2019. Kalimna feature musicians from the esteemed James\nMorison Music Academy in Mt Gambier. BYO drinks. \nTickets will become available 1st February\, 2019. You will not want to miss this event! \nRSVP book on line at the website of Harrow Bush Nursing Centre – www.hbnc.org.au \n
URL:https://lookoverthefarmgate.org.au/event/harrow-long-lunch/
LOCATION:Behind Harrow Hall\, Blair Street\, Harrow
CATEGORIES:Drought Support Events
ORGANIZER;CN="Harrow%20Bush%20Nursing%20Centre":MAILTO:operationsadmin@hbnc.org.au
END:VEVENT
END:VCALENDAR