BEGIN:VCALENDAR
VERSION:2.0
PRODID:-//Look Over The Farm Gate - ECPv4.9.10//NONSGML v1.0//EN
CALSCALE:GREGORIAN
METHOD:PUBLISH
X-WR-CALNAME:Look Over The Farm Gate
X-ORIGINAL-URL:https://lookoverthefarmgate.org.au
X-WR-CALDESC:Events for Look Over The Farm Gate
BEGIN:VTIMEZONE
TZID:Australia/Melbourne
BEGIN:STANDARD
TZOFFSETFROM:+1100
TZOFFSETTO:+1000
TZNAME:AEST
DTSTART:20190406T160000
END:STANDARD
BEGIN:DAYLIGHT
TZOFFSETFROM:+1000
TZOFFSETTO:+1100
TZNAME:AEDT
DTSTART:20191005T160000
END:DAYLIGHT
END:VTIMEZONE
BEGIN:VEVENT
DTSTART;TZID=Australia/Melbourne:20190324T100000
DTEND;TZID=Australia/Melbourne:20190324T140000
DTSTAMP:20200301T161008
CREATED:20190320T050812Z
LAST-MODIFIED:20190320T050812Z
UID:2500-1553421600-1553436000@lookoverthefarmgate.org.au
SUMMARY:Lockington Family Wellbeing Day
DESCRIPTION:A Family Wellbeing Day where family can come together and enjoy a day out\nwith music\, barbecue\, jumping castle\, activities and more while finding out\nmore information about Fire Safety\, Health and Wellness and support\nservices. \nRSVP: via facebook https://www.facebook.com/events/357750098144408/ \n  \n
URL:https://lookoverthefarmgate.org.au/event/lockington-family-wellbeing-day/
LOCATION:Lockington Recreational Reserve
CATEGORIES:Drought Support Events
END:VEVENT
END:VCALENDAR