BEGIN:VCALENDAR
VERSION:2.0
PRODID:-//Look Over The Farm Gate - ECPv4.9.10//NONSGML v1.0//EN
CALSCALE:GREGORIAN
METHOD:PUBLISH
X-WR-CALNAME:Look Over The Farm Gate
X-ORIGINAL-URL:https://lookoverthefarmgate.org.au
X-WR-CALDESC:Events for Look Over The Farm Gate
BEGIN:VTIMEZONE
TZID:Australia/Melbourne
BEGIN:STANDARD
TZOFFSETFROM:+1100
TZOFFSETTO:+1000
TZNAME:AEST
DTSTART:20190406T160000
END:STANDARD
BEGIN:DAYLIGHT
TZOFFSETFROM:+1000
TZOFFSETTO:+1100
TZNAME:AEDT
DTSTART:20191005T160000
END:DAYLIGHT
END:VTIMEZONE
BEGIN:VEVENT
DTSTART;TZID=Australia/Melbourne:20190330T180000
DTEND;TZID=Australia/Melbourne:20190330T230000
DTSTAMP:20200301T161521
CREATED:20190320T222031Z
LAST-MODIFIED:20190320T222031Z
UID:2490-1553968800-1553986800@lookoverthefarmgate.org.au
SUMMARY:Movie Under the Stars
DESCRIPTION:The Tyrrell College Alpine students invite everyone to join them at Green Lake for an evening of fun and socialising with their friends\, families and neighbours. They can leave their worries and chores behind for the evening to enjoy playing some games\, have a BBQ and then watch a movie. \nRSVP: Brooke McClelland 0419 634 998 or Hannah Cox 0437 295 277 \n
URL:https://lookoverthefarmgate.org.au/event/movie-under-the-stars/
LOCATION:Green Lake\, Sea Lake
CATEGORIES:Drought Support Events
END:VEVENT
END:VCALENDAR